BEGIN:VCALENDAR
VERSION:2.0
PRODID:-//Hershey Family Chiropractic - ECPv6.15.20//NONSGML v1.0//EN
CALSCALE:GREGORIAN
METHOD:PUBLISH
X-WR-CALNAME:Hershey Family Chiropractic
X-ORIGINAL-URL:https://hersheyfamilychiropractic.com
X-WR-CALDESC:Events for Hershey Family Chiropractic
REFRESH-INTERVAL;VALUE=DURATION:PT1H
X-Robots-Tag:noindex
X-PUBLISHED-TTL:PT1H
BEGIN:VTIMEZONE
TZID:UTC
BEGIN:STANDARD
TZOFFSETFROM:+0000
TZOFFSETTO:+0000
TZNAME:UTC
DTSTART:20240101T000000
END:STANDARD
END:VTIMEZONE
BEGIN:VEVENT
DTSTART;TZID=UTC:20251007T180000
DTEND;TZID=UTC:20251007T190000
DTSTAMP:20260421T111118
CREATED:20250907T141848Z
LAST-MODIFIED:20250907T141856Z
UID:1769-1759860000-1759863600@hersheyfamilychiropractic.com
SUMMARY:Power Hour: Mental Health for New Moms
DESCRIPTION:Dr. Leanne Tressler and Sarah Cooper join forces to provide new moms with a safe space to learn how to effectively address and find support for the most common post partum challenges. \nThis is a FREE event and is open to current patients AS WELL AS anyone in the local community who needs a safe place to learn and share.
URL:https://hersheyfamilychiropractic.com/event/power-hour-mental-health-for-new-moms/
LOCATION:Hershey Family Chiropractic\, 24 Northeast Drive Suite A\, Hershey\, PA\, 17033\, United States
ATTACH;FMTTYPE=image/webp:https://hersheyfamilychiropractic.com/wp-content/uploads/2025/09/hfc-power-hour-new-mom.webp
ORGANIZER;CN="Hershey Family Chiropractic":MAILTO:hfcmain@hersheyfamilychiropractic.com
END:VEVENT
END:VCALENDAR