BEGIN:VCALENDAR
VERSION:2.0
PRODID:-//Hershey Family Chiropractic - ECPv6.15.20//NONSGML v1.0//EN
CALSCALE:GREGORIAN
METHOD:PUBLISH
X-WR-CALNAME:Hershey Family Chiropractic
X-ORIGINAL-URL:https://hersheyfamilychiropractic.com
X-WR-CALDESC:Events for Hershey Family Chiropractic
REFRESH-INTERVAL;VALUE=DURATION:PT1H
X-Robots-Tag:noindex
X-PUBLISHED-TTL:PT1H
BEGIN:VTIMEZONE
TZID:UTC
BEGIN:STANDARD
TZOFFSETFROM:+0000
TZOFFSETTO:+0000
TZNAME:UTC
DTSTART:20240101T000000
END:STANDARD
END:VTIMEZONE
BEGIN:VEVENT
DTSTART;TZID=UTC:20250916T180000
DTEND;TZID=UTC:20250916T190000
DTSTAMP:20260421T111119
CREATED:20250811T202537Z
LAST-MODIFIED:20250811T202547Z
UID:1603-1758045600-1758049200@hersheyfamilychiropractic.com
SUMMARY:Align + Flow Yoga
DESCRIPTION:Join us for Align + Flow Yoga part of our Patient Empowerment SeriesBreathe. Move. Empower. \nThis event brings together gentle movement\, mindful alignment\, and community connection in a special Align + Flow Yoga session — designed to help you reconnect with your body and calm your nervous system. \nFree for all patients & guests – space is limited! \nLed by Rachel\, this class is perfect for all levels — no experience needed. Whether you’re managing pain\, stress\, or just looking to move with intention\, this is for YOU. \nEmpower your healing journey — one breath\, one pose at a time.
URL:https://hersheyfamilychiropractic.com/event/align-flow-yoga/
LOCATION:Hershey Family Chiropractic\, 24 Northeast Drive Suite A\, Hershey\, PA\, 17033\, United States
ATTACH;FMTTYPE=image/jpeg:https://hersheyfamilychiropractic.com/wp-content/uploads/2025/08/hfc-align-flow-2.jpg
ORGANIZER;CN="Hershey Family Chiropractic":MAILTO:hfcmain@hersheyfamilychiropractic.com
END:VEVENT
END:VCALENDAR