BEGIN:VCALENDAR
VERSION:2.0
PRODID:-//Hershey Family Chiropractic - ECPv6.15.20//NONSGML v1.0//EN
CALSCALE:GREGORIAN
METHOD:PUBLISH
X-WR-CALNAME:Hershey Family Chiropractic
X-ORIGINAL-URL:https://hersheyfamilychiropractic.com
X-WR-CALDESC:Events for Hershey Family Chiropractic
REFRESH-INTERVAL;VALUE=DURATION:PT1H
X-Robots-Tag:noindex
X-PUBLISHED-TTL:PT1H
BEGIN:VTIMEZONE
TZID:UTC
BEGIN:STANDARD
TZOFFSETFROM:+0000
TZOFFSETTO:+0000
TZNAME:UTC
DTSTART:20240101T000000
END:STANDARD
END:VTIMEZONE
BEGIN:VEVENT
DTSTART;TZID=UTC:20251009T100000
DTEND;TZID=UTC:20251009T160000
DTSTAMP:20260421T110829
CREATED:20250907T142837Z
LAST-MODIFIED:20250907T143105Z
UID:1774-1760004000-1760025600@hersheyfamilychiropractic.com
SUMMARY:Age Your Way Event
DESCRIPTION:Join us for the Aging Your Way Festival! Presented by the Community Health Council of Lebanon CountyCome enjoy a full day of fun\, learning\, and community connection — designed for ALL ages! \nWhat to expect:– Demonstrations & Live Entertainment (Swingtime Dolls\, The Uptown Band’s Erich Cawalla & more!) \n– Interactive Activities like painting\, birdhouse building\, and free massages \n*** Our very own Dr. Jenifer Epstein is OPENING THE EVENT with a presentation about how our LANGUAGE inside of Healthcare is DESTROYING our ability to LIVE!!
URL:https://hersheyfamilychiropractic.com/event/age-your-way-event/
LOCATION:Lebanon Valley Expo Center & Fairgrounds\, 80 Rocherty Road\, Lebanon\, PA\, 17042\, United States
ATTACH;FMTTYPE=image/webp:https://hersheyfamilychiropractic.com/wp-content/uploads/2025/09/hfc-age-your-way-event.webp
ORGANIZER;CN="Hershey Family Chiropractic":MAILTO:hfcmain@hersheyfamilychiropractic.com
END:VEVENT
END:VCALENDAR