BEGIN:VCALENDAR
VERSION:2.0
PRODID:-//Hershey Family Chiropractic - ECPv6.15.20//NONSGML v1.0//EN
CALSCALE:GREGORIAN
METHOD:PUBLISH
X-WR-CALNAME:Hershey Family Chiropractic
X-ORIGINAL-URL:https://hersheyfamilychiropractic.com
X-WR-CALDESC:Events for Hershey Family Chiropractic
REFRESH-INTERVAL;VALUE=DURATION:PT1H
X-Robots-Tag:noindex
X-PUBLISHED-TTL:PT1H
BEGIN:VTIMEZONE
TZID:UTC
BEGIN:STANDARD
TZOFFSETFROM:+0000
TZOFFSETTO:+0000
TZNAME:UTC
DTSTART:20240101T000000
END:STANDARD
END:VTIMEZONE
BEGIN:VEVENT
DTSTART;TZID=UTC:20251013T083000
DTEND;TZID=UTC:20251013T170000
DTSTAMP:20260421T110921
CREATED:20250903T204750Z
LAST-MODIFIED:20250907T144047Z
UID:1706-1760344200-1760374800@hersheyfamilychiropractic.com
SUMMARY:"A Day of Breast Health" with HerScan Ultrasound
DESCRIPTION:Early detection is everything. Doing more is smart prevention. Register today! \nAdding Ultrasound and bridging technologies increases detection rates of breast cancer from approximately 48% to 97% particularly in women with dense breasts. \n\nPainless\nRadiation Free\nRadiologist Read\nImplant Safe\nNo Compression\nFast – Affordable\nConvenient\n\nLast screening is at 4:10PM \n			\n				Register Now
URL:https://hersheyfamilychiropractic.com/event/a-day-of-breast-health-with-herscan-ultrasound/
LOCATION:Hershey Family Chiropractic\, 24 Northeast Drive Suite A\, Hershey\, PA\, 17033\, United States
ATTACH;FMTTYPE=image/webp:https://hersheyfamilychiropractic.com/wp-content/uploads/2025/09/hfc-screening.webp
ORGANIZER;CN="Hershey Family Chiropractic":MAILTO:hfcmain@hersheyfamilychiropractic.com
END:VEVENT
END:VCALENDAR